BEGIN:VCALENDAR
VERSION:2.0
PRODID:-//wp-events-plugin.com//7.2.3.1//EN
TZID:America/Toronto
X-WR-TIMEZONE:America/Toronto
BEGIN:VEVENT
UID:7@onsug.org
DTSTART;TZID=America/Toronto:20220421T100000
DTEND;TZID=America/Toronto:20220421T120000
DTSTAMP:20220408T185524Z
URL:https://onsug.org/events/ontario-netsuite-user-group-meeting-6/
SUMMARY:Ontario NetSuite User Group Meeting
DESCRIPTION:[caption id="attachment_1614" align="alignnone" width="300"] Sh
 aring information\, stories and experience.[/caption]\n\nHello fellow NetS
 uite Users!\n\nThe date of our Eighth meeting is set. Hope to see you ther
 e!\n\nDate: Thursday\, April 21\, 2022\nTime: 10:00 am – 12:00 pm\n\nAge
 nda:\n\nRolls and Security \n\nPresentation by: Durrell Martin\, ONSUG We
 bmaster\n\nBuilding Corporate Saved Searches in the NetSuite Menu\n\nPrese
 ntation by: Mark Tanner\, ONSUG Co-Chair\n\nMessageMedia – Meeting Spons
 or\n\nPresentation by: Rich Hay - Director of Strategic Partnerships\, Jus
 tin Koppstein - Account Executive - Ecosystems and Ryan Longenecker - Solu
 tions Manager\n\nONSUG Group Dynamics - Survey Results \n\nPresentation a
 nd Discussion lead by: Stephanie Frisina\, ONSUG Speaker Chair\n\nBring a 
 Questions\n\nDiscussion lead by: Mark Tanner\, ONSUG Co-Chair\n\nONSUG Jul
 y Meeting Teaser\n\nPresentation by:  Lisa Reed\, ONSUG Treasurer\n\n&nbs
 p\;\nMEETING SPONSOR – MessageMedia\n\n\nPresentation by:\nRich Hay - Di
 rector of Strategic Partnerships\n\nJustin Koppstein - Account Executive -
  Ecosystems\n\nRyan Longenecker - Solutions Manager\n\nExtend the power of
  NetSuite with SMS​\n\nSMS and NetSuite work together to deliver automat
 ed\, personalized messages that will grab attention\, drive better engagem
 ent\, and boost ROI and efficiencies. Why should your customers use SMS? 
 Customers now prefer to engage with businesses via mobile communications\,
  and SMS is one of the most popular mobile activities today. Research show
 s 70% of customers prefer businesses to communicate with them using SMS.\n
 \nAbout MessageMedia \n\nMessageMedia (www.messagemedia.com) is a global m
 essaging provider that helps businesses of all sizes — from SMBs to ente
 rprise-level — better connect with customers. With 90 per cent of messag
 es read within 90 seconds and more than 65\,000 customers worldwide\, Mess
 ageMedia drives business success by creating engaging mobile experiences t
 hat customers love. Messaging solutions such as alerts and notifications\,
  billing and payments\, appointment reminders\, marketing\, and staff sche
 duling are used by leading brands in healthcare\, education\, retail\, uti
 lities\, and dozens of industries. With offices across the United States\,
  Australia\, United Kingdom\, and New Zealand\, MessageMedia is the number
  one choice for easy and engaging global business messaging.\n\nClick Here
  for more info\n\n&nbsp\;
ATTACH;FMTTYPE=image/jpeg:https://onsug.org/wp-content/uploads/2020/06/Bec
 ome-a-Member.jpg
CATEGORIES:Meetings
LOCATION:http://zoom.us
END:VEVENT
BEGIN:VTIMEZONE
TZID:America/Toronto
X-LIC-LOCATION:America/Toronto
BEGIN:DAYLIGHT
DTSTART:20220313T030000
TZOFFSETFROM:-0500
TZOFFSETTO:-0400
TZNAME:EDT
END:DAYLIGHT
END:VTIMEZONE
END:VCALENDAR