BEGIN:VCALENDAR
VERSION:2.0
PRODID:-//wp-events-plugin.com//7.2.3.1//EN
TZID:America/Toronto
X-WR-TIMEZONE:America/Toronto
BEGIN:VEVENT
UID:4@onsug.org
DTSTART;TZID=America/Toronto:20210715T100000
DTEND;TZID=America/Toronto:20210715T120000
DTSTAMP:20210625T161014Z
URL:https://onsug.org/events/ontario-netsuite-user-group-meeting-3/
SUMMARY:Ontario NetSuite User Group Meeting
DESCRIPTION:[caption id="attachment_1614" align="alignnone" width="300"] Sh
 aring information\, stories and experience.[/caption]\n\nHello fellow NetS
 uite Users!\n\nThe date of our fifth meeting is set. Hope to see you there
 !\n\nDate: Thursday\, July 15\, 2021\nTime: 10:00 am – 12:00 pm\n\nBrows
 er Extensions \n\nDiscussion lead by:  Mark Tanner\, ONSUG Co-Chair\n\nM
 eeting Sponsor - VersaPay - Increase Sales and Accelerate Cash Flow in Net
 Suite \n\n\n\nPresentation by:\nAllison Sobel\, NetSuite National Sales\,
  Versapay\n\nLooking to increase your sales\, lower costs\, and reduce man
 ual processes?\n\nJoin Allison Sobel (NetSuite National Sales\, Versapay) 
 to learn how accepting alternate payment methods and leveraging interchang
 e optimization can help you do just that. Versapay’s integrated payments
  and accounts receivable automation solutions built especially for NetSuit
 e make it easier for buyers and sellers to do business together.\n\nVersaP
 ay is also giving away a $150 Amazon Gift Card \n\nEnter Here to Win\n\nH
 ow to Look for new Add-Ons \n\nDiscussion lead by:  Durrell Martin\, ONS
 UG Webmaster\n\nNetSuite Support Suite App \n\nDiscussion lead by:  Durr
 ell Martin\, ONSUG Webmaster\n\nCustomizing the Basics to Your Business Ne
 eds: Beginner to Advanced Native NetSuite Dashboards \n\nDiscussion lead 
 by:  Mark Tanner\, ONSUG Co-Chair\n\nClient Spotlight: Overview\, Estimat
 e to Actual Project Reports \n\nDiscussion lead by:  Stephanie Frisina\,
  ONSUG Speaker Chair
ATTACH;FMTTYPE=image/jpeg:https://onsug.org/wp-content/uploads/2020/06/Bec
 ome-a-Member.jpg
LOCATION:https://zoomn.us
END:VEVENT
BEGIN:VTIMEZONE
TZID:America/Toronto
X-LIC-LOCATION:America/Toronto
BEGIN:DAYLIGHT
DTSTART:20210314T030000
TZOFFSETFROM:-0500
TZOFFSETTO:-0400
TZNAME:EDT
END:DAYLIGHT
END:VTIMEZONE
END:VCALENDAR