BEGIN:VCALENDAR
VERSION:2.0
PRODID:-//wp-events-plugin.com//7.2.3.1//EN
TZID:America/Toronto
X-WR-TIMEZONE:America/Toronto
BEGIN:VEVENT
UID:3@onsug.org
DTSTART;TZID=America/Toronto:20210415T100000
DTEND;TZID=America/Toronto:20210415T120000
DTSTAMP:20210415T114439Z
URL:https://onsug.org/events/ontario-netsuite-user-group-meeting-2/
SUMMARY:Ontario NetSuite User Group Meeting
DESCRIPTION:[caption id="attachment_1614" align="alignnone" width="300"] Sh
 aring information\, stories and experience.[/caption]\n\n&nbsp\;\n\nHello 
 fellow NetSuite Users!\n\nThe date of our fourth meeting is set. Hope to s
 ee you there!\n\nDate: Thursday\, April 15\, 2021\nTime: 10:00 am – 12:0
 0 pm\nPreview of NetSuite 2021.1 Release\nDiscussion lead by:  Gavin Davi
 dson\, ERP Product Management\nMeeting Sponsor - Celigo - Integration and 
 CloudExtend\n\n\nPresentation by:\nKarin Stella\, Account Executive\, Celi
 go (karin.stella@celigo.com)\nJustine Burdo\, Sales Lead\, CloudExtend (ju
 stine.burdo@celigo.com)\nDeb Morgan\, Director Solutions Consulting (deb.m
 organ@celico.com)\n\nFor 10 years\, Celigo has been the largest NetSuite 
 partner\, with over 3500 NetSuite customers around the world relying on th
 em to automate business processes across applications. Built for both tech
 nical and business users\, Celigo is the leading integration platform (iPa
 aS) that allows you to quickly connect NetSuite to thousands of applicati
 ons such as Salesforce\, Shopify\, Amazon\, Zendesk\, Magento\, Hubspot\,
   Concur\, Excel and so much more.\n\nCloudExtend\, (a Celigo brand) buil
 ds applications for end users of NetSuite that allows them to work expone
 ntially faster. Our team has a laser focus on Excel and email integrations
 . Combined without strong background in ERP and CRM\, this enables us to 
 deliver products that install in seconds and deliver immediate benefits.\n
 \nCeligo was recently named a Best Software of 2021 by G2\n\nCeligo will r
 eview:\n\n 	The most common integration use cases for NetSuite users\n 	Wh
 at options are there for integrating with NetSuite?\n 	Preview of Celigo's
  NetSuite integrations with different applications\n 	Building custom inte
 gration flows\n 	CloudExtend for Excel\, Outlook\, and G-Suite\n\nCeligo i
 s also Giving Away a CDN$ 50 Gift Card!\nEnter Here to Win\n\nTax Tips - A
 valara Sales Taxes \n\nDiscussion lead by:  Lisa Reed
ATTACH;FMTTYPE=image/jpeg:https://onsug.org/wp-content/uploads/2020/06/Bec
 ome-a-Member.jpg
LOCATION:https://zoomn.us
END:VEVENT
BEGIN:VTIMEZONE
TZID:America/Toronto
X-LIC-LOCATION:America/Toronto
BEGIN:DAYLIGHT
DTSTART:20210314T030000
TZOFFSETFROM:-0500
TZOFFSETTO:-0400
TZNAME:EDT
END:DAYLIGHT
END:VTIMEZONE
END:VCALENDAR