BEGIN:VCALENDAR
VERSION:2.0
PRODID:-//wp-events-plugin.com//7.2.3.1//EN
TZID:America/Toronto
X-WR-TIMEZONE:America/Toronto
BEGIN:VEVENT
UID:15@onsug.org
DTSTART;TZID=America/Toronto:20250123T090000
DTEND;TZID=America/Toronto:20250123T110000
DTSTAMP:20250109T195426Z
URL:https://onsug.org/events/onsug-winter-meeting-via-zoom/
SUMMARY:ONSUG Winter Meeting - Via Zoom
DESCRIPTION:[caption id="attachment_1614" align="alignnone" width="300"] Sh
 aring information\, stories and experience.[/caption]\n\nHello fellow NetS
 uite Users!\n\nStart 2025 off right by joining us for our winter Ontario N
 etSuite User Group meeting! This interactive session is designed to help y
 ou make the most of NetSuite with actionable insights\, practical tips\, a
 nd opportunities to connect with your peers.\n\nDate: Thursday\, Janaury 2
 3\, 2025\nTime: 9:00 am – 12:00 am\nThis will be a virtual meeting via Z
 oom.\nAgenda:\n\n 	9:00 to 9:15 Welcome and Member Introduction\n 	9:15 to
  9:30 General ONSUG Information\n 	9:30 to 10:00 Inventory Management\n 	1
 0:00 to 10:30 Saved Search Refresher\n 	10:30 to 10:50 Networking Break\n 
 	10:50 to 11:30 Financial Reporting\n 	11:30 to 12:00 Open Discussion\n\nH
 ere’s what we’ll be covering:\n\n 	Inventory Management: Streamline yo
 ur operations and keep your stock on track with proven strategies and tips
 .\n 	Saved Searches: Unlock the full potential of NetSuite data with power
 ful reporting and insights.\n 	Financial Reporting: Simplify complex repor
 ting processes and gain a clearer view of your financials.\n\nWhether you
 ’re a seasoned pro or just beginning your NetSuite journey\, this meetin
 g is packed with value to enhance your expertise and optimize your busines
 s operations\n\nJoin us on January 23rd online only.\n\nThis is your chanc
 e to connect with other NetSuite users across Ontario\, share experiences\
 , and build your professional network. Don't miss out—reserve your spot 
 today!\n\nWe can’t wait to see you there.
ATTACH;FMTTYPE=image/jpeg:https://onsug.org/wp-content/uploads/2020/06/Bec
 ome-a-Member.jpg
CATEGORIES:Meetings
LOCATION:https://us06web.zoom.us/j/83075612768?pwd=kcfNR8kHyhPNpbgv9YN0WKAg
 ItqSaC.1
END:VEVENT
BEGIN:VTIMEZONE
TZID:America/Toronto
X-LIC-LOCATION:America/Toronto
BEGIN:STANDARD
DTSTART:20241103T010000
TZOFFSETFROM:-0400
TZOFFSETTO:-0500
TZNAME:EST
END:STANDARD
END:VTIMEZONE
END:VCALENDAR